BEGIN:VCALENDAR
VERSION:2.0
PRODID:-//jEvents 2.0 for Joomla//EN
CALSCALE:GREGORIAN
METHOD:PUBLISH
BEGIN:VTIMEZONE
TZID:Europe/Berlin
BEGIN:STANDARD
DTSTART:20241027T020000
RDATE:20250330T030000
TZOFFSETFROM:+0200
TZOFFSETTO:+0100
TZNAME:Europe/Berlin CET
END:STANDARD
BEGIN:STANDARD
DTSTART:20251026T020000
RDATE:20260329T030000
TZOFFSETFROM:+0200
TZOFFSETTO:+0100
TZNAME:Europe/Berlin CET
END:STANDARD
BEGIN:STANDARD
DTSTART:20261025T020000
RDATE:20270328T030000
TZOFFSETFROM:+0200
TZOFFSETTO:+0100
TZNAME:Europe/Berlin CET
END:STANDARD
BEGIN:STANDARD
DTSTART:20271031T020000
RDATE:20280326T030000
TZOFFSETFROM:+0200
TZOFFSETTO:+0100
TZNAME:Europe/Berlin CET
END:STANDARD
BEGIN:STANDARD
DTSTART:20281029T020000
RDATE:20290325T030000
TZOFFSETFROM:+0200
TZOFFSETTO:+0100
TZNAME:Europe/Berlin CET
END:STANDARD
BEGIN:STANDARD
DTSTART:20291028T020000
RDATE:20300331T030000
TZOFFSETFROM:+0200
TZOFFSETTO:+0100
TZNAME:Europe/Berlin CET
END:STANDARD
BEGIN:STANDARD
DTSTART:20301027T020000
RDATE:20310330T030000
TZOFFSETFROM:+0200
TZOFFSETTO:+0100
TZNAME:Europe/Berlin CET
END:STANDARD
BEGIN:STANDARD
DTSTART:20311026T020000
RDATE:20320328T030000
TZOFFSETFROM:+0200
TZOFFSETTO:+0100
TZNAME:Europe/Berlin CET
END:STANDARD
BEGIN:DAYLIGHT
DTSTART:20240612T193000
RDATE:20241027T020000
TZOFFSETFROM:+0100
TZOFFSETTO:+0200
TZNAME:Europe/Berlin CEST
END:DAYLIGHT
BEGIN:DAYLIGHT
DTSTART:20250330T030000
RDATE:20251026T020000
TZOFFSETFROM:+0100
TZOFFSETTO:+0200
TZNAME:Europe/Berlin CEST
END:DAYLIGHT
BEGIN:DAYLIGHT
DTSTART:20260329T030000
RDATE:20261025T020000
TZOFFSETFROM:+0100
TZOFFSETTO:+0200
TZNAME:Europe/Berlin CEST
END:DAYLIGHT
BEGIN:DAYLIGHT
DTSTART:20270328T030000
RDATE:20271031T020000
TZOFFSETFROM:+0100
TZOFFSETTO:+0200
TZNAME:Europe/Berlin CEST
END:DAYLIGHT
BEGIN:DAYLIGHT
DTSTART:20280326T030000
RDATE:20281029T020000
TZOFFSETFROM:+0100
TZOFFSETTO:+0200
TZNAME:Europe/Berlin CEST
END:DAYLIGHT
BEGIN:DAYLIGHT
DTSTART:20290325T030000
RDATE:20291028T020000
TZOFFSETFROM:+0100
TZOFFSETTO:+0200
TZNAME:Europe/Berlin CEST
END:DAYLIGHT
BEGIN:DAYLIGHT
DTSTART:20300331T030000
RDATE:20301027T020000
TZOFFSETFROM:+0100
TZOFFSETTO:+0200
TZNAME:Europe/Berlin CEST
END:DAYLIGHT
BEGIN:DAYLIGHT
DTSTART:20310330T030000
RDATE:20311026T020000
TZOFFSETFROM:+0100
TZOFFSETTO:+0200
TZNAME:Europe/Berlin CEST
END:DAYLIGHT
END:VTIMEZONE
BEGIN:VEVENT
UID:ece1d14f36f17286b33587456b0bc49f
CATEGORIES:Intern - Leitung und Arbeitskreise
CREATED:20250102T141806
SUMMARY:Gemeindeleitung / Älteste
DESCRIPTION:
DTSTAMP:20260424T051346
DTSTART;TZID=Europe/Berlin:20250606T193000
SEQUENCE:0
RRULE:FREQ=MONTHLY;UNTIL=20251220T000000Z;INTERVAL=1;BYDAY=+1FR
TRANSP:OPAQUE
END:VEVENT
BEGIN:VEVENT
UID:ece1d14f36f17286b33587456b0bc49f
CATEGORIES:Intern - Leitung und Arbeitskreise
CREATED:20250102T141806
SUMMARY:Gemeindeleitung / Älteste
DESCRIPTION:
URL;VALUE=URI:https://www.cfg-mettmann.de/layout/icalrepeat.detail/2025/03/14/5469/-/geme
 indeleitung-aelteste?tmpl=component

DTSTAMP:20260424T051346
DTSTART;TZID=Europe/Berlin:20250314T193000
DTEND;TZID=Europe/Berlin:20250314T235959
RECURRENCE-ID;TZID=Europe/Berlin:20250307T193000
SEQUENCE:0
TRANSP:OPAQUE
END:VEVENT
BEGIN:VEVENT
UID:ece1d14f36f17286b33587456b0bc49f
CATEGORIES:Intern - Leitung und Arbeitskreise
CREATED:20250102T141806
SUMMARY:Gemeindeleitung / Älteste
DESCRIPTION:
URL;VALUE=URI:https://www.cfg-mettmann.de/layout/icalrepeat.detail/2025/04/11/5470/-/geme
 indeleitung-aelteste?tmpl=component

DTSTAMP:20260424T051346
DTSTART;TZID=Europe/Berlin:20250411T193000
DTEND;TZID=Europe/Berlin:20250411T235959
RECURRENCE-ID;TZID=Europe/Berlin:20250404T193000
SEQUENCE:0
TRANSP:OPAQUE
END:VEVENT
BEGIN:VEVENT
UID:ece1d14f36f17286b33587456b0bc49f
CATEGORIES:Intern - Leitung und Arbeitskreise
CREATED:20250102T141806
SUMMARY:Gemeindeleitung / Älteste
DESCRIPTION:
URL;VALUE=URI:https://www.cfg-mettmann.de/layout/icalrepeat.detail/2025/05/09/5471/-/geme
 indeleitung-aelteste?tmpl=component

DTSTAMP:20260424T051346
DTSTART;TZID=Europe/Berlin:20250509T193000
DTEND;TZID=Europe/Berlin:20250509T235959
RECURRENCE-ID;TZID=Europe/Berlin:20250502T193000
SEQUENCE:0
TRANSP:OPAQUE
END:VEVENT
BEGIN:VEVENT
UID:ece1d14f36f17286b33587456b0bc49f
CATEGORIES:Intern - Leitung und Arbeitskreise
CREATED:20250102T141806
SUMMARY:Gemeindeleitung / Älteste
DESCRIPTION:
URL;VALUE=URI:https://www.cfg-mettmann.de/layout/icalrepeat.detail/2025/06/13/5472/-/geme
 indeleitung-aelteste?tmpl=component

DTSTAMP:20260424T051346
DTSTART;TZID=Europe/Berlin:20250613T193000
DTEND;TZID=Europe/Berlin:20250613T235959
RECURRENCE-ID;TZID=Europe/Berlin:20250606T193000
SEQUENCE:0
TRANSP:OPAQUE
END:VEVENT
BEGIN:VEVENT
UID:ece1d14f36f17286b33587456b0bc49f
CATEGORIES:Intern - Leitung und Arbeitskreise
CREATED:20250102T141806
SUMMARY:Gemeindeleitung / Älteste
DESCRIPTION:
URL;VALUE=URI:https://www.cfg-mettmann.de/layout/icalrepeat.detail/2025/09/18/5475/-/geme
 indeleitung-aelteste?tmpl=component

DTSTAMP:20260424T051346
DTSTART;TZID=Europe/Berlin:20250918T180000
DTEND;TZID=Europe/Berlin:20250918T235959
RECURRENCE-ID;TZID=Europe/Berlin:20250905T193000
SEQUENCE:0
TRANSP:OPAQUE
END:VEVENT
BEGIN:VEVENT
UID:ece1d14f36f17286b33587456b0bc49f
CATEGORIES:Intern - Leitung und Arbeitskreise
CREATED:20250102T141806
SUMMARY:Gemeindeleitung / Älteste
DESCRIPTION:
URL;VALUE=URI:https://www.cfg-mettmann.de/layout/icalrepeat.detail/2025/10/10/5476/-/geme
 indeleitung-aelteste?tmpl=component

DTSTAMP:20260424T051346
DTSTART;TZID=Europe/Berlin:20251010T193000
DTEND;TZID=Europe/Berlin:20251010T235959
RECURRENCE-ID;TZID=Europe/Berlin:20251003T193000
SEQUENCE:0
TRANSP:OPAQUE
END:VEVENT
END:VCALENDAR