BEGIN:VCALENDAR
VERSION:2.0
PRODID:-//jEvents 2.0 for Joomla//EN
CALSCALE:GREGORIAN
METHOD:PUBLISH
BEGIN:VTIMEZONE
TZID:Europe/Berlin
BEGIN:STANDARD
DTSTART:20230102T200000
RDATE:20230326T030000
TZOFFSETFROM:+0200
TZOFFSETTO:+0100
TZNAME:Europe/Berlin CET
END:STANDARD
BEGIN:STANDARD
DTSTART:20231029T020000
RDATE:20240331T030000
TZOFFSETFROM:+0200
TZOFFSETTO:+0100
TZNAME:Europe/Berlin CET
END:STANDARD
BEGIN:STANDARD
DTSTART:20241027T020000
RDATE:20250330T030000
TZOFFSETFROM:+0200
TZOFFSETTO:+0100
TZNAME:Europe/Berlin CET
END:STANDARD
BEGIN:STANDARD
DTSTART:20251026T020000
RDATE:20260329T030000
TZOFFSETFROM:+0200
TZOFFSETTO:+0100
TZNAME:Europe/Berlin CET
END:STANDARD
BEGIN:STANDARD
DTSTART:20261025T020000
RDATE:20270328T030000
TZOFFSETFROM:+0200
TZOFFSETTO:+0100
TZNAME:Europe/Berlin CET
END:STANDARD
BEGIN:STANDARD
DTSTART:20271031T020000
RDATE:20280326T030000
TZOFFSETFROM:+0200
TZOFFSETTO:+0100
TZNAME:Europe/Berlin CET
END:STANDARD
BEGIN:STANDARD
DTSTART:20281029T020000
RDATE:20290325T030000
TZOFFSETFROM:+0200
TZOFFSETTO:+0100
TZNAME:Europe/Berlin CET
END:STANDARD
BEGIN:STANDARD
DTSTART:20291028T020000
RDATE:20300331T030000
TZOFFSETFROM:+0200
TZOFFSETTO:+0100
TZNAME:Europe/Berlin CET
END:STANDARD
BEGIN:STANDARD
DTSTART:20301027T020000
RDATE:20310330T030000
TZOFFSETFROM:+0200
TZOFFSETTO:+0100
TZNAME:Europe/Berlin CET
END:STANDARD
BEGIN:STANDARD
DTSTART:20311026T020000
RDATE:20320328T030000
TZOFFSETFROM:+0200
TZOFFSETTO:+0100
TZNAME:Europe/Berlin CET
END:STANDARD
BEGIN:DAYLIGHT
DTSTART:20230326T030000
RDATE:20231029T020000
TZOFFSETFROM:+0100
TZOFFSETTO:+0200
TZNAME:Europe/Berlin CEST
END:DAYLIGHT
BEGIN:DAYLIGHT
DTSTART:20240331T030000
RDATE:20241027T020000
TZOFFSETFROM:+0100
TZOFFSETTO:+0200
TZNAME:Europe/Berlin CEST
END:DAYLIGHT
BEGIN:DAYLIGHT
DTSTART:20250330T030000
RDATE:20251026T020000
TZOFFSETFROM:+0100
TZOFFSETTO:+0200
TZNAME:Europe/Berlin CEST
END:DAYLIGHT
BEGIN:DAYLIGHT
DTSTART:20260329T030000
RDATE:20261025T020000
TZOFFSETFROM:+0100
TZOFFSETTO:+0200
TZNAME:Europe/Berlin CEST
END:DAYLIGHT
BEGIN:DAYLIGHT
DTSTART:20270328T030000
RDATE:20271031T020000
TZOFFSETFROM:+0100
TZOFFSETTO:+0200
TZNAME:Europe/Berlin CEST
END:DAYLIGHT
BEGIN:DAYLIGHT
DTSTART:20280326T030000
RDATE:20281029T020000
TZOFFSETFROM:+0100
TZOFFSETTO:+0200
TZNAME:Europe/Berlin CEST
END:DAYLIGHT
BEGIN:DAYLIGHT
DTSTART:20290325T030000
RDATE:20291028T020000
TZOFFSETFROM:+0100
TZOFFSETTO:+0200
TZNAME:Europe/Berlin CEST
END:DAYLIGHT
BEGIN:DAYLIGHT
DTSTART:20300331T030000
RDATE:20301027T020000
TZOFFSETFROM:+0100
TZOFFSETTO:+0200
TZNAME:Europe/Berlin CEST
END:DAYLIGHT
BEGIN:DAYLIGHT
DTSTART:20310330T030000
RDATE:20311026T020000
TZOFFSETFROM:+0100
TZOFFSETTO:+0200
TZNAME:Europe/Berlin CEST
END:DAYLIGHT
END:VTIMEZONE
BEGIN:VEVENT
UID:4efcf5b4ae4a9facad4d2d3370050a89
CATEGORIES:Kleingruppen
CREATED:19700101T010000
SUMMARY:Bibel- und Gebetsstunde
LOCATION:CFG
DESCRIPTION:
CONTACT:http://www.cfg-mettmann.de/75
DTSTAMP:20260425T175735
DTSTART;TZID=Europe/Berlin:20240103T200000
SEQUENCE:0
RRULE:FREQ=WEEKLY;UNTIL=20241219T000000Z;INTERVAL=1;BYDAY=WE
TRANSP:OPAQUE
END:VEVENT
BEGIN:VEVENT
UID:4efcf5b4ae4a9facad4d2d3370050a89
CATEGORIES:Kleingruppen
CREATED:20240103T153513
SUMMARY:KEINE Bibel- und Gebetsstunde (wegen Allianz-Gebetswoche)
LOCATION:CFG
DESCRIPTION:
URL;VALUE=URI:https://www.cfg-mettmann.de/layout/icalrepeat.detail/2024/01/17/4910/-/kein
 e-bibel-und-gebetsstunde-wegen-allianz-gebetswoche?tmpl=component
CONTACT:http://www.cfg-mettmann.de/75 (http://www.cfg-mettmann.de/75)

DTSTAMP:20260425T175735
DTSTART;TZID=Europe/Berlin:20240117T200000
DTEND;TZID=Europe/Berlin:20240117T235959
RECURRENCE-ID;TZID=Europe/Berlin:20240117T200000
SEQUENCE:0
TRANSP:OPAQUE
END:VEVENT
BEGIN:VEVENT
UID:4efcf5b4ae4a9facad4d2d3370050a89
CATEGORIES:Kleingruppen
CREATED:20240103T153513
SUMMARY:KEINE Bibel- und Gebetsstunde (wegen Gemeindeversammlung)
LOCATION:CFG
DESCRIPTION:
URL;VALUE=URI:https://www.cfg-mettmann.de/layout/icalrepeat.detail/2024/05/22/4928/-/kein
 e-bibel-und-gebetsstunde-wegen-gemeindeversammlung?tmpl=component
CONTACT:http://www.cfg-mettmann.de/75 (http://www.cfg-mettmann.de/75)

DTSTAMP:20260425T175735
DTSTART;TZID=Europe/Berlin:20240522T200000
DTEND;TZID=Europe/Berlin:20240522T235959
RECURRENCE-ID;TZID=Europe/Berlin:20240522T200000
SEQUENCE:0
TRANSP:OPAQUE
END:VEVENT
BEGIN:VEVENT
UID:4efcf5b4ae4a9facad4d2d3370050a89
CATEGORIES:Kleingruppen
CREATED:20240103T153513
SUMMARY:KEINE Bibel- und Gebetsstunde (wg. Gemeindeversammlung)
LOCATION:CFG
DESCRIPTION:
URL;VALUE=URI:https://www.cfg-mettmann.de/layout/icalrepeat.detail/2024/11/20/4954/-/kein
 e-bibel-und-gebetsstunde-wg-gemeindeversammlung?tmpl=component
CONTACT:http://www.cfg-mettmann.de/75 (http://www.cfg-mettmann.de/75)

DTSTAMP:20260425T175735
DTSTART;TZID=Europe/Berlin:20241120T200000
DTEND;TZID=Europe/Berlin:20241120T235959
RECURRENCE-ID;TZID=Europe/Berlin:20241120T200000
SEQUENCE:0
TRANSP:OPAQUE
END:VEVENT
BEGIN:VEVENT
UID:4efcf5b4ae4a9facad4d2d3370050a89
CATEGORIES:Kleingruppen
CREATED:20240103T153513
SUMMARY:KEINE Bibel- und Gebetsstunde
LOCATION:CFG
DESCRIPTION:
URL;VALUE=URI:https://www.cfg-mettmann.de/layout/icalrepeat.detail/2024/03/27/4920/-/kein
 e-bibel-und-gebetsstunde?tmpl=component
CONTACT:http://www.cfg-mettmann.de/75 (http://www.cfg-mettmann.de/75)

DTSTAMP:20260425T175735
DTSTART;TZID=Europe/Berlin:20240327T200000
DTEND;TZID=Europe/Berlin:20240327T235959
RECURRENCE-ID;TZID=Europe/Berlin:20240327T200000
SEQUENCE:0
TRANSP:OPAQUE
END:VEVENT
BEGIN:VEVENT
UID:4efcf5b4ae4a9facad4d2d3370050a89
CATEGORIES:Kleingruppen
CREATED:20240103T153513
SUMMARY:KEINE Bibel- und Gebetsstunde
LOCATION:CFG
DESCRIPTION:
URL;VALUE=URI:https://www.cfg-mettmann.de/layout/icalrepeat.detail/2024/05/01/4925/-/kein
 e-bibel-und-gebetsstunde?tmpl=component
CONTACT:http://www.cfg-mettmann.de/75 (http://www.cfg-mettmann.de/75)

DTSTAMP:20260425T175735
DTSTART;TZID=Europe/Berlin:20240501T200000
DTEND;TZID=Europe/Berlin:20240501T235959
RECURRENCE-ID;TZID=Europe/Berlin:20240501T200000
SEQUENCE:0
TRANSP:OPAQUE
END:VEVENT
BEGIN:VEVENT
UID:4efcf5b4ae4a9facad4d2d3370050a89
CATEGORIES:Kleingruppen
CREATED:20240103T153513
SUMMARY:HEUTE KEINE Bibel- und Gebetsstunde
LOCATION:CFG
DESCRIPTION:
URL;VALUE=URI:https://www.cfg-mettmann.de/layout/icalrepeat.detail/2024/07/31/4938/-/heut
 e-keine-bibel-und-gebetsstunde?tmpl=component
CONTACT:http://www.cfg-mettmann.de/75 (http://www.cfg-mettmann.de/75)

DTSTAMP:20260425T175735
DTSTART;TZID=Europe/Berlin:20240731T200000
DTEND;TZID=Europe/Berlin:20240731T235959
RECURRENCE-ID;TZID=Europe/Berlin:20240731T200000
SEQUENCE:0
TRANSP:OPAQUE
END:VEVENT
END:VCALENDAR