BEGIN:VCALENDAR
VERSION:2.0
PRODID:-//jEvents 2.0 for Joomla//EN
CALSCALE:GREGORIAN
METHOD:PUBLISH
BEGIN:VTIMEZONE
TZID:Europe/Berlin
BEGIN:STANDARD
DTSTART:20220121T100000
RDATE:20220327T030000
TZOFFSETFROM:+0200
TZOFFSETTO:+0100
TZNAME:Europe/Berlin CET
END:STANDARD
BEGIN:STANDARD
DTSTART:20221030T020000
RDATE:20230326T030000
TZOFFSETFROM:+0200
TZOFFSETTO:+0100
TZNAME:Europe/Berlin CET
END:STANDARD
BEGIN:STANDARD
DTSTART:20231029T020000
RDATE:20240331T030000
TZOFFSETFROM:+0200
TZOFFSETTO:+0100
TZNAME:Europe/Berlin CET
END:STANDARD
BEGIN:STANDARD
DTSTART:20241027T020000
RDATE:20250330T030000
TZOFFSETFROM:+0200
TZOFFSETTO:+0100
TZNAME:Europe/Berlin CET
END:STANDARD
BEGIN:STANDARD
DTSTART:20251026T020000
RDATE:20260329T030000
TZOFFSETFROM:+0200
TZOFFSETTO:+0100
TZNAME:Europe/Berlin CET
END:STANDARD
BEGIN:STANDARD
DTSTART:20261025T020000
RDATE:20270328T030000
TZOFFSETFROM:+0200
TZOFFSETTO:+0100
TZNAME:Europe/Berlin CET
END:STANDARD
BEGIN:STANDARD
DTSTART:20271031T020000
RDATE:20280326T030000
TZOFFSETFROM:+0200
TZOFFSETTO:+0100
TZNAME:Europe/Berlin CET
END:STANDARD
BEGIN:STANDARD
DTSTART:20281029T020000
RDATE:20290325T030000
TZOFFSETFROM:+0200
TZOFFSETTO:+0100
TZNAME:Europe/Berlin CET
END:STANDARD
BEGIN:STANDARD
DTSTART:20291028T020000
RDATE:20300331T030000
TZOFFSETFROM:+0200
TZOFFSETTO:+0100
TZNAME:Europe/Berlin CET
END:STANDARD
BEGIN:STANDARD
DTSTART:20301027T020000
RDATE:20310330T030000
TZOFFSETFROM:+0200
TZOFFSETTO:+0100
TZNAME:Europe/Berlin CET
END:STANDARD
BEGIN:STANDARD
DTSTART:20311026T020000
RDATE:20320328T030000
TZOFFSETFROM:+0200
TZOFFSETTO:+0100
TZNAME:Europe/Berlin CET
END:STANDARD
BEGIN:DAYLIGHT
DTSTART:20220327T030000
RDATE:20221030T020000
TZOFFSETFROM:+0100
TZOFFSETTO:+0200
TZNAME:Europe/Berlin CEST
END:DAYLIGHT
BEGIN:DAYLIGHT
DTSTART:20230326T030000
RDATE:20231029T020000
TZOFFSETFROM:+0100
TZOFFSETTO:+0200
TZNAME:Europe/Berlin CEST
END:DAYLIGHT
BEGIN:DAYLIGHT
DTSTART:20240331T030000
RDATE:20241027T020000
TZOFFSETFROM:+0100
TZOFFSETTO:+0200
TZNAME:Europe/Berlin CEST
END:DAYLIGHT
BEGIN:DAYLIGHT
DTSTART:20250330T030000
RDATE:20251026T020000
TZOFFSETFROM:+0100
TZOFFSETTO:+0200
TZNAME:Europe/Berlin CEST
END:DAYLIGHT
BEGIN:DAYLIGHT
DTSTART:20260329T030000
RDATE:20261025T020000
TZOFFSETFROM:+0100
TZOFFSETTO:+0200
TZNAME:Europe/Berlin CEST
END:DAYLIGHT
BEGIN:DAYLIGHT
DTSTART:20270328T030000
RDATE:20271031T020000
TZOFFSETFROM:+0100
TZOFFSETTO:+0200
TZNAME:Europe/Berlin CEST
END:DAYLIGHT
BEGIN:DAYLIGHT
DTSTART:20280326T030000
RDATE:20281029T020000
TZOFFSETFROM:+0100
TZOFFSETTO:+0200
TZNAME:Europe/Berlin CEST
END:DAYLIGHT
BEGIN:DAYLIGHT
DTSTART:20290325T030000
RDATE:20291028T020000
TZOFFSETFROM:+0100
TZOFFSETTO:+0200
TZNAME:Europe/Berlin CEST
END:DAYLIGHT
BEGIN:DAYLIGHT
DTSTART:20300331T030000
RDATE:20301027T020000
TZOFFSETFROM:+0100
TZOFFSETTO:+0200
TZNAME:Europe/Berlin CEST
END:DAYLIGHT
BEGIN:DAYLIGHT
DTSTART:20310330T030000
RDATE:20311026T020000
TZOFFSETFROM:+0100
TZOFFSETTO:+0200
TZNAME:Europe/Berlin CEST
END:DAYLIGHT
END:VTIMEZONE
BEGIN:VEVENT
UID:4c81ae4dd5cbc9fc531661faea1e0ddd
CATEGORIES:Gottesdienste
CREATED:19700101T010000
SUMMARY:Gottesdienst
LOCATION:Christlich-Freikirchliche Gemeinde\, Auf dem Hüls 26\, 40822 Mettmann
DESCRIPTION:
DTSTAMP:20260425T171547
DTSTART;TZID=Europe/Berlin:20230122T100000
DTEND;TZID=Europe/Berlin:20230122T110000
SEQUENCE:0
RRULE:FREQ=MONTHLY;UNTIL=20240101T000000Z;INTERVAL=1;BYDAY=+1SU,+4SU
TRANSP:OPAQUE
END:VEVENT
BEGIN:VEVENT
UID:4c81ae4dd5cbc9fc531661faea1e0ddd
CATEGORIES:Gottesdienste
CREATED:20221231T120246
SUMMARY:KEIN Gottesdienst in der CFG wegen Gemeindefreizeit
LOCATION:Christlich-Freikirchliche Gemeinde, Auf dem Hüls 26, 40822 Mettmann
DESCRIPTION:
URL;VALUE=URI:https://www.cfg-mettmann.de/layout/icalrepeat.detail/2023/04/23/4312/-/kein
 -gottesdienst-in-der-cfg-wegen-gemeindefreizeit?tmpl=component

DTSTAMP:20260425T171547
DTSTART;TZID=Europe/Berlin:20230423T100000
DTEND;TZID=Europe/Berlin:20230423T110000
RECURRENCE-ID;TZID=Europe/Berlin:20230423T100000
SEQUENCE:0
TRANSP:OPAQUE
END:VEVENT
BEGIN:VEVENT
UID:4c81ae4dd5cbc9fc531661faea1e0ddd
CATEGORIES:Gottesdienste
CREATED:20221231T120246
SUMMARY:Gottesdienst - Was die Zukunft bringt! - Teil 3
LOCATION:Christlich-Freikirchliche Gemeinde, Auf dem Hüls 26, 40822 Mettmann
DESCRIPTION:Seminar mit Dr. Dr. Benjamin Lange\nTeil 3: Meine Zukunft in der neuen Welt
  - Was uns einmal erwartet (Gottesdienst mit Predigt zum Thema)\n
X-ALT-DESC;FMTTYPE=text/html:<p>Seminar mit Dr. Dr. Benjamin Lange</p><p>Teil 3: <strong>Meine Zukunft i
 n der neuen Welt - Was uns einmal erwartet (Gottesdienst mit Predigt zum Th
 ema)</strong></p>
URL;VALUE=URI:https://www.cfg-mettmann.de/layout/icalrepeat.detail/2023/11/05/4328/-/gott
 esdienst-was-die-zukunft-bringt-teil-3?tmpl=component
CONTACT:https://www.cfg-mettmann.de/610

DTSTAMP:20260425T171547
DTSTART;TZID=Europe/Berlin:20231105T100000
DTEND;TZID=Europe/Berlin:20231105T110000
RECURRENCE-ID;TZID=Europe/Berlin:20231105T100000
SEQUENCE:0
TRANSP:OPAQUE
END:VEVENT
BEGIN:VEVENT
UID:4c81ae4dd5cbc9fc531661faea1e0ddd
CATEGORIES:Gottesdienste
CREATED:20221231T120246
SUMMARY:Gottesdienst zu Heiligabend
LOCATION:Christlich-Freikirchliche Gemeinde, Auf dem Hüls 26, 40822 Mettmann
DESCRIPTION:
URL;VALUE=URI:https://www.cfg-mettmann.de/layout/icalrepeat.detail/2023/12/24/4331/-/gott
 esdienst-zu-heiligabend?tmpl=component

DTSTAMP:20260425T171547
DTSTART;TZID=Europe/Berlin:20231224T153000
DTEND;TZID=Europe/Berlin:20231224T161500
RECURRENCE-ID;TZID=Europe/Berlin:20231224T100000
SEQUENCE:0
TRANSP:OPAQUE
END:VEVENT
END:VCALENDAR