BEGIN:VCALENDAR
VERSION:2.0
PRODID:-//jEvents 2.0 for Joomla//EN
CALSCALE:GREGORIAN
METHOD:PUBLISH
BEGIN:VTIMEZONE
TZID:Europe/Berlin
BEGIN:STANDARD
DTSTART:20150102T100000
RDATE:20150329T030000
TZOFFSETFROM:+0200
TZOFFSETTO:+0100
TZNAME:Europe/Berlin CET
END:STANDARD
BEGIN:STANDARD
DTSTART:20151025T020000
RDATE:20160327T030000
TZOFFSETFROM:+0200
TZOFFSETTO:+0100
TZNAME:Europe/Berlin CET
END:STANDARD
BEGIN:STANDARD
DTSTART:20161030T020000
RDATE:20170326T030000
TZOFFSETFROM:+0200
TZOFFSETTO:+0100
TZNAME:Europe/Berlin CET
END:STANDARD
BEGIN:STANDARD
DTSTART:20171029T020000
RDATE:20180325T030000
TZOFFSETFROM:+0200
TZOFFSETTO:+0100
TZNAME:Europe/Berlin CET
END:STANDARD
BEGIN:STANDARD
DTSTART:20181028T020000
RDATE:20190331T030000
TZOFFSETFROM:+0200
TZOFFSETTO:+0100
TZNAME:Europe/Berlin CET
END:STANDARD
BEGIN:STANDARD
DTSTART:20191027T020000
RDATE:20200329T030000
TZOFFSETFROM:+0200
TZOFFSETTO:+0100
TZNAME:Europe/Berlin CET
END:STANDARD
BEGIN:STANDARD
DTSTART:20201025T020000
RDATE:20210328T030000
TZOFFSETFROM:+0200
TZOFFSETTO:+0100
TZNAME:Europe/Berlin CET
END:STANDARD
BEGIN:STANDARD
DTSTART:20211031T020000
RDATE:20220327T030000
TZOFFSETFROM:+0200
TZOFFSETTO:+0100
TZNAME:Europe/Berlin CET
END:STANDARD
BEGIN:STANDARD
DTSTART:20221030T020000
RDATE:20230326T030000
TZOFFSETFROM:+0200
TZOFFSETTO:+0100
TZNAME:Europe/Berlin CET
END:STANDARD
BEGIN:STANDARD
DTSTART:20231029T020000
RDATE:20240331T030000
TZOFFSETFROM:+0200
TZOFFSETTO:+0100
TZNAME:Europe/Berlin CET
END:STANDARD
BEGIN:STANDARD
DTSTART:20241027T020000
RDATE:20250330T030000
TZOFFSETFROM:+0200
TZOFFSETTO:+0100
TZNAME:Europe/Berlin CET
END:STANDARD
BEGIN:STANDARD
DTSTART:20251026T020000
RDATE:20260329T030000
TZOFFSETFROM:+0200
TZOFFSETTO:+0100
TZNAME:Europe/Berlin CET
END:STANDARD
BEGIN:STANDARD
DTSTART:20261025T020000
RDATE:20270328T030000
TZOFFSETFROM:+0200
TZOFFSETTO:+0100
TZNAME:Europe/Berlin CET
END:STANDARD
BEGIN:STANDARD
DTSTART:20271031T020000
RDATE:20280326T030000
TZOFFSETFROM:+0200
TZOFFSETTO:+0100
TZNAME:Europe/Berlin CET
END:STANDARD
BEGIN:STANDARD
DTSTART:20281029T020000
RDATE:20290325T030000
TZOFFSETFROM:+0200
TZOFFSETTO:+0100
TZNAME:Europe/Berlin CET
END:STANDARD
BEGIN:STANDARD
DTSTART:20291028T020000
RDATE:20300331T030000
TZOFFSETFROM:+0200
TZOFFSETTO:+0100
TZNAME:Europe/Berlin CET
END:STANDARD
BEGIN:STANDARD
DTSTART:20301027T020000
RDATE:20310330T030000
TZOFFSETFROM:+0200
TZOFFSETTO:+0100
TZNAME:Europe/Berlin CET
END:STANDARD
BEGIN:STANDARD
DTSTART:20311026T020000
RDATE:20320328T030000
TZOFFSETFROM:+0200
TZOFFSETTO:+0100
TZNAME:Europe/Berlin CET
END:STANDARD
BEGIN:DAYLIGHT
DTSTART:20150329T030000
RDATE:20151025T020000
TZOFFSETFROM:+0100
TZOFFSETTO:+0200
TZNAME:Europe/Berlin CEST
END:DAYLIGHT
BEGIN:DAYLIGHT
DTSTART:20160327T030000
RDATE:20161030T020000
TZOFFSETFROM:+0100
TZOFFSETTO:+0200
TZNAME:Europe/Berlin CEST
END:DAYLIGHT
BEGIN:DAYLIGHT
DTSTART:20170326T030000
RDATE:20171029T020000
TZOFFSETFROM:+0100
TZOFFSETTO:+0200
TZNAME:Europe/Berlin CEST
END:DAYLIGHT
BEGIN:DAYLIGHT
DTSTART:20180325T030000
RDATE:20181028T020000
TZOFFSETFROM:+0100
TZOFFSETTO:+0200
TZNAME:Europe/Berlin CEST
END:DAYLIGHT
BEGIN:DAYLIGHT
DTSTART:20190331T030000
RDATE:20191027T020000
TZOFFSETFROM:+0100
TZOFFSETTO:+0200
TZNAME:Europe/Berlin CEST
END:DAYLIGHT
BEGIN:DAYLIGHT
DTSTART:20200329T030000
RDATE:20201025T020000
TZOFFSETFROM:+0100
TZOFFSETTO:+0200
TZNAME:Europe/Berlin CEST
END:DAYLIGHT
BEGIN:DAYLIGHT
DTSTART:20210328T030000
RDATE:20211031T020000
TZOFFSETFROM:+0100
TZOFFSETTO:+0200
TZNAME:Europe/Berlin CEST
END:DAYLIGHT
BEGIN:DAYLIGHT
DTSTART:20220327T030000
RDATE:20221030T020000
TZOFFSETFROM:+0100
TZOFFSETTO:+0200
TZNAME:Europe/Berlin CEST
END:DAYLIGHT
BEGIN:DAYLIGHT
DTSTART:20230326T030000
RDATE:20231029T020000
TZOFFSETFROM:+0100
TZOFFSETTO:+0200
TZNAME:Europe/Berlin CEST
END:DAYLIGHT
BEGIN:DAYLIGHT
DTSTART:20240331T030000
RDATE:20241027T020000
TZOFFSETFROM:+0100
TZOFFSETTO:+0200
TZNAME:Europe/Berlin CEST
END:DAYLIGHT
BEGIN:DAYLIGHT
DTSTART:20250330T030000
RDATE:20251026T020000
TZOFFSETFROM:+0100
TZOFFSETTO:+0200
TZNAME:Europe/Berlin CEST
END:DAYLIGHT
BEGIN:DAYLIGHT
DTSTART:20260329T030000
RDATE:20261025T020000
TZOFFSETFROM:+0100
TZOFFSETTO:+0200
TZNAME:Europe/Berlin CEST
END:DAYLIGHT
BEGIN:DAYLIGHT
DTSTART:20270328T030000
RDATE:20271031T020000
TZOFFSETFROM:+0100
TZOFFSETTO:+0200
TZNAME:Europe/Berlin CEST
END:DAYLIGHT
BEGIN:DAYLIGHT
DTSTART:20280326T030000
RDATE:20281029T020000
TZOFFSETFROM:+0100
TZOFFSETTO:+0200
TZNAME:Europe/Berlin CEST
END:DAYLIGHT
BEGIN:DAYLIGHT
DTSTART:20290325T030000
RDATE:20291028T020000
TZOFFSETFROM:+0100
TZOFFSETTO:+0200
TZNAME:Europe/Berlin CEST
END:DAYLIGHT
BEGIN:DAYLIGHT
DTSTART:20300331T030000
RDATE:20301027T020000
TZOFFSETFROM:+0100
TZOFFSETTO:+0200
TZNAME:Europe/Berlin CEST
END:DAYLIGHT
BEGIN:DAYLIGHT
DTSTART:20310330T030000
RDATE:20311026T020000
TZOFFSETFROM:+0100
TZOFFSETTO:+0200
TZNAME:Europe/Berlin CEST
END:DAYLIGHT
END:VTIMEZONE
BEGIN:VEVENT
UID:4c03ab0d91b671cf218ea448f6703db0
CATEGORIES:Gottesdienste
CREATED:19700101T010000
SUMMARY:Gottesdienst
LOCATION:CFG
DESCRIPTION:
CONTACT:http://www.cfg-mettmann.de/gottesdienste/gottesdienste-mit-abendmahl/
DTSTAMP:20260425T164953
DTSTART;TZID=Europe/Berlin:20160103T100000
DTEND;TZID=Europe/Berlin:20160103T114000
SEQUENCE:0
RRULE:FREQ=MONTHLY;UNTIL=20170101T000000Z;INTERVAL=1;BYDAY=+1SU,+2SU,+4SU,+5SU
TRANSP:OPAQUE
END:VEVENT
BEGIN:VEVENT
UID:4c03ab0d91b671cf218ea448f6703db0
CATEGORIES:Gottesdienste
CREATED:20160102T122957
SUMMARY:Gottesdienst mit Brunch
LOCATION:CFG
DESCRIPTION:
URL;VALUE=URI:https://www.cfg-mettmann.de/layout/icalrepeat.detail/2016/03/27/1623/-/gott
 esdienst-mit-brunch?tmpl=component
CONTACT:http://www.cfg-mettmann.de/gottesdienste/gottesdienste-mit-abendmahl/ (http://www.cfg-mettmann.de/gottesdienste/gottesdienste-mit-abendmahl/)

DTSTAMP:20260425T164953
DTSTART;TZID=Europe/Berlin:20160327T100000
DTEND;TZID=Europe/Berlin:20160327T114000
RECURRENCE-ID;TZID=Europe/Berlin:20160327T100000
SEQUENCE:0
TRANSP:OPAQUE
END:VEVENT
BEGIN:VEVENT
UID:4c03ab0d91b671cf218ea448f6703db0
CATEGORIES:Gottesdienste
CREATED:20160102T122957
SUMMARY:Zeltlager-Abschluss-Gottesdienst mit Grillfest
LOCATION:CFG
DESCRIPTION:
URL;VALUE=URI:https://www.cfg-mettmann.de/layout/icalrepeat.detail/2016/08/14/1639/-/zelt
 lager-abschluss-gottesdienst-mit-grillfest?tmpl=component
CONTACT:http://www.cfg-mettmann.de/gottesdienste/gottesdienste-mit-abendmahl/ (http://www.cfg-mettmann.de/gottesdienste/gottesdienste-mit-abendmahl/)

DTSTAMP:20260425T164953
DTSTART;TZID=Europe/Berlin:20160814T110000
DTEND;TZID=Europe/Berlin:20160814T150000
RECURRENCE-ID;TZID=Europe/Berlin:20160814T100000
SEQUENCE:0
TRANSP:OPAQUE
END:VEVENT
BEGIN:VEVENT
UID:4c03ab0d91b671cf218ea448f6703db0
CATEGORIES:Gottesdienste
CREATED:20160102T122957
SUMMARY:Gottesdienst
LOCATION:CFG
DESCRIPTION:
URL;VALUE=URI:https://www.cfg-mettmann.de/layout/icalrepeat.detail/2016/06/26/1633/-/gott
 esdienst?tmpl=component
CONTACT:http://www.cfg-mettmann.de/gottesdienste/gottesdienste-mit-abendmahl/ (http://www.cfg-mettmann.de/gottesdienste/gottesdienste-mit-abendmahl/)

DTSTAMP:20260425T164953
DTSTART;TZID=Europe/Berlin:20160626T110000
DTEND;TZID=Europe/Berlin:20160626T120000
RECURRENCE-ID;TZID=Europe/Berlin:20160626T100000
SEQUENCE:0
TRANSP:OPAQUE
END:VEVENT
BEGIN:VEVENT
UID:4c03ab0d91b671cf218ea448f6703db0
CATEGORIES:Gottesdienste
CREATED:20160102T122957
SUMMARY:Gottesdienst - Zeltlagernachtreffen
LOCATION:CFG
DESCRIPTION:
URL;VALUE=URI:https://www.cfg-mettmann.de/layout/icalrepeat.detail/2016/09/25/1643/-/gott
 esdienst-zeltlagernachtreffen?tmpl=component
CONTACT:http://www.cfg-mettmann.de/gottesdienste/gottesdienste-mit-abendmahl/ (http://www.cfg-mettmann.de/gottesdienste/gottesdienste-mit-abendmahl/)

DTSTAMP:20260425T164953
DTSTART;TZID=Europe/Berlin:20160925T100000
DTEND;TZID=Europe/Berlin:20160925T114000
RECURRENCE-ID;TZID=Europe/Berlin:20160925T100000
SEQUENCE:0
TRANSP:OPAQUE
END:VEVENT
BEGIN:VEVENT
UID:4c03ab0d91b671cf218ea448f6703db0
CATEGORIES:Gottesdienste
CREATED:20160102T122957
SUMMARY:KEIN Gottesdienst
LOCATION:CFG
DESCRIPTION:
URL;VALUE=URI:https://www.cfg-mettmann.de/layout/icalrepeat.detail/2016/12/25/1653/-/kein
 -gottesdienst?tmpl=component
CONTACT:http://www.cfg-mettmann.de/gottesdienste/gottesdienste-mit-abendmahl/ (http://www.cfg-mettmann.de/gottesdienste/gottesdienste-mit-abendmahl/)

DTSTAMP:20260425T164953
DTSTART;TZID=Europe/Berlin:20161225T100000
DTEND;TZID=Europe/Berlin:20161225T114000
RECURRENCE-ID;TZID=Europe/Berlin:20161225T100000
SEQUENCE:0
TRANSP:OPAQUE
END:VEVENT
END:VCALENDAR